BEGIN:VCALENDAR
PRODID:www.aamal.com.qa
VERSION:2.0
CALSCALE:GREGORIAN
BEGIN:VEVENT
UID:80fc5aab32f0ae414c3a4a8e8309e770
DTSTAMP:20260419T170516Z
SUMMARY:الإفصاح عن النتائج المالية للربع الأ
 ول من العام 2026
DESCRIPTION:الإفصاح عن النتائج المالية للربع ا
 لأول من العام 2026
DTSTART:20260428T140000Z
DTEND:20260428T140000Z
LOCATION:
END:VEVENT
END:VCALENDAR
