BEGIN:VCALENDAR
PRODID:www.aamal.com.qa
VERSION:2.0
CALSCALE:GREGORIAN
BEGIN:VEVENT
UID:77300929fdec6631b13bf1af23e9f31a
DTSTAMP:20260419T170619Z
SUMMARY:مكالمة المستثمرين عبر الهاتف - النتا
 ئج المالية للربع الأول 2026
DESCRIPTION:مكالمة المستثمرين عبر الهاتف - الن
 تائج المالية للربع الأول 2026
DTSTART:20260430T074138Z
DTEND:20260430T160000Z
LOCATION:
END:VEVENT
END:VCALENDAR
