BEGIN:VCALENDAR
PRODID:www.aamal.com.qa
VERSION:2.0
CALSCALE:GREGORIAN
BEGIN:VEVENT
UID:7b7640150a2aed08906a8168611a7cd4
DTSTAMP:20260419T170533Z
SUMMARY:اجتماع الجمعية العمومية 
DESCRIPTION:Aamal Company General Assembly Meeting 2026
DTSTART:20260421T170000Z
DTEND:20260421T210000Z
LOCATION:اجتماع الجمعية العمومية 
END:VEVENT
END:VCALENDAR
