BEGIN:VCALENDAR
PRODID:www.aamal.com.qa
VERSION:2.0
CALSCALE:GREGORIAN
BEGIN:VEVENT
UID:be4c0ed730d240be43d4ffc53e37d2b5
DTSTAMP:20260419T203414Z
SUMMARY:Disclosure of Q1 2026 Financial Results
DESCRIPTION:Disclosure of Q1 2026 Financial Results
DTSTART:20260428T140000Z
DTEND:20260428T140000Z
LOCATION:
END:VEVENT
END:VCALENDAR
