BEGIN:VCALENDAR
PRODID:www.aamal.com.qa
VERSION:2.0
CALSCALE:GREGORIAN
BEGIN:VEVENT
UID:ece5673938103f3390f0673e283e0b02
DTSTAMP:20260419T203414Z
SUMMARY:Analyst Call - Q1 2026 Financial Results
DESCRIPTION:Analyst Call - Q1 2026 Financial Results
DTSTART:20260430T074138Z
DTEND:20260430T160000Z
LOCATION:
END:VEVENT
END:VCALENDAR
