BEGIN:VCALENDAR
PRODID:www.aamal.com.qa
VERSION:2.0
CALSCALE:GREGORIAN
BEGIN:VEVENT
UID:d5c0b5f32223eb797b3d0467de4a0780
DTSTAMP:20260419T203557Z
SUMMARY:Aamal Company General Assembly Meeting 2026
DESCRIPTION:Aamal Company General Assembly Meeting 2026
DTSTART:20260421T170000Z
DTEND:20260421T210000Z
LOCATION:Aamal Company General Assembly Meeting 2026
END:VEVENT
END:VCALENDAR
